Workbook

Sheet Your data
A1: Sales forecast template: your data
A2: Edit only the yellow cells: the first month in A6, and monthly sales in B6:B41, oldest first. Leave unused rows blank.
A3: The example sales figures are made up to show the format. Type your own over them. Free template from ezforecasting.com
A5: Month | B5: Sales ($) | C5: Period # | D5: Trend ($) | E5: Ratio to trend | F5: Calendar month
A6: 44927 | B6: 41200 | C6: =IF(B6="","",ROW()-5) -> 1 | D6: =IF(B6="","",Forecast!$B$7+Forecast!$B$6*C6) -> 46464.114 | E6: =IF(OR(B6="",D6<=0),"",B6/D6) -> 0.88670581 | F6: =IF(B6="","",MONTH(A6)) -> 1
A7: =DATE(YEAR(A6),MONTH(A6)+1,1) -> 44958 | B7: 39800 | C7: =IF(B7="","",ROW()-5) -> 2 | D7: =IF(B7="","",Forecast!$B$7+Forecast!$B$6*C7) -> 46987.911 | E7: =IF(OR(B7="",D7<=0),"",B7/D7) -> 0.84702638 | F7: =IF(B7="","",MONTH(A7)) -> 2
A8: =DATE(YEAR(A7),MONTH(A7)+1,1) -> 44986 | B8: 45600 | C8: =IF(B8="","",ROW()-5) -> 3 | D8: =IF(B8="","",Forecast!$B$7+Forecast!$B$6*C8) -> 47511.707 | E8: =IF(OR(B8="",D8<=0),"",B8/D8) -> 0.95976345 | F8: =IF(B8="","",MONTH(A8)) -> 3
A9: =DATE(YEAR(A8),MONTH(A8)+1,1) -> 45017 | B9: 47900 | C9: =IF(B9="","",ROW()-5) -> 4 | D9: =IF(B9="","",Forecast!$B$7+Forecast!$B$6*C9) -> 48035.504 | E9: =IF(OR(B9="",D9<=0),"",B9/D9) -> 0.99717908 | F9: =IF(B9="","",MONTH(A9)) -> 4
A10: =DATE(YEAR(A9),MONTH(A9)+1,1) -> 45047 | B10: 52300 | C10: =IF(B10="","",ROW()-5) -> 5 | D10: =IF(B10="","",Forecast!$B$7+Forecast!$B$6*C10) -> 48559.301 | E10: =IF(OR(B10="",D10<=0),"",B10/D10) -> 1.0770336 | F10: =IF(B10="","",MONTH(A10)) -> 5
A11: =DATE(YEAR(A10),MONTH(A10)+1,1) -> 45078 | B11: 55100 | C11: =IF(B11="","",ROW()-5) -> 6 | D11: =IF(B11="","",Forecast!$B$7+Forecast!$B$6*C11) -> 49083.097 | E11: =IF(OR(B11="",D11<=0),"",B11/D11) -> 1.122586 | F11: =IF(B11="","",MONTH(A11)) -> 6
A12: =DATE(YEAR(A11),MONTH(A11)+1,1) -> 45108 | B12: 57800 | C12: =IF(B12="","",ROW()-5) -> 7 | D12: =IF(B12="","",Forecast!$B$7+Forecast!$B$6*C12) -> 49606.894 | E12: =IF(OR(B12="",D12<=0),"",B12/D12) -> 1.1651606 | F12: =IF(B12="","",MONTH(A12)) -> 7
A13: =DATE(YEAR(A12),MONTH(A12)+1,1) -> 45139 | B13: 56200 | C13: =IF(B13="","",ROW()-5) -> 8 | D13: =IF(B13="","",Forecast!$B$7+Forecast!$B$6*C13) -> 50130.691 | E13: =IF(OR(B13="",D13<=0),"",B13/D13) -> 1.1210697 | F13: =IF(B13="","",MONTH(A13)) -> 8
A14: =DATE(YEAR(A13),MONTH(A13)+1,1) -> 45170 | B14: 50400 | C14: =IF(B14="","",ROW()-5) -> 9 | D14: =IF(B14="","",Forecast!$B$7+Forecast!$B$6*C14) -> 50654.487 | E14: =IF(OR(B14="",D14<=0),"",B14/D14) -> 0.99497602 | F14: =IF(B14="","",MONTH(A14)) -> 9
A15: =DATE(YEAR(A14),MONTH(A14)+1,1) -> 45200 | B15: 48700 | C15: =IF(B15="","",ROW()-5) -> 10 | D15: =IF(B15="","",Forecast!$B$7+Forecast!$B$6*C15) -> 51178.284 | E15: =IF(OR(B15="",D15<=0),"",B15/D15) -> 0.95157548 | F15: =IF(B15="","",MONTH(A15)) -> 10
A16: =DATE(YEAR(A15),MONTH(A15)+1,1) -> 45231 | B16: 53900 | C16: =IF(B16="","",ROW()-5) -> 11 | D16: =IF(B16="","",Forecast!$B$7+Forecast!$B$6*C16) -> 51702.081 | E16: =IF(OR(B16="",D16<=0),"",B16/D16) -> 1.0425112 | F16: =IF(B16="","",MONTH(A16)) -> 11
A17: =DATE(YEAR(A16),MONTH(A16)+1,1) -> 45261 | B17: 61800 | C17: =IF(B17="","",ROW()-5) -> 12 | D17: =IF(B17="","",Forecast!$B$7+Forecast!$B$6*C17) -> 52225.877 | E17: =IF(OR(B17="",D17<=0),"",B17/D17) -> 1.1833214 | F17: =IF(B17="","",MONTH(A17)) -> 12
A18: =DATE(YEAR(A17),MONTH(A17)+1,1) -> 45292 | B18: 44900 | C18: =IF(B18="","",ROW()-5) -> 13 | D18: =IF(B18="","",Forecast!$B$7+Forecast!$B$6*C18) -> 52749.674 | E18: =IF(OR(B18="",D18<=0),"",B18/D18) -> 0.8511901 | F18: =IF(B18="","",MONTH(A18)) -> 1
... A41: =DATE(YEAR(A40),MONTH(A40)+1,1) -> 45992 | B41: 73200 | C41: =IF(B41="","",ROW()-5) -> 36 | D41: =IF(B41="","",Forecast!$B$7+Forecast!$B$6*C41) -> 64796.997 | E41: =IF(OR(B41="",D41<=0),"",B41/D41) -> 1.129682 | F41: =IF(B41="","",MONTH(A41)) -> 12

Sheet Forecast
A1: 12-month sales forecast
A2: Everything on this sheet is calculated from the Your data sheet. Trend x seasonal factor; see ezforecasting.com/sales-forecast-template/
A4: Calculated inputs
A5: Months of data | B5: =COUNT('Your data'!$B$6:$B$41) -> 36
A6: Trend: change per month ($) | B6: =IF(B5<3,0,SLOPE('Your data'!$B$6:$B$41,'Your data'!$C$6:$C$41)) -> 523.79665 | C6: Fitted with SLOPE and INTERCEPT over all months entered
A7: Trend: starting level ($) | B7: =IF(B5<3,AVERAGE('Your data'!$B$6:$B$41),INTERCEPT('Your data'!$B$6:$B$41,'Your data'!$C$6:$C$41)) -> 45940.317
A8: Last month of data | B8: =INDEX('Your data'!$A$6:$A$41,B5) -> 45992
A10: Seasonal factors
A11: Calendar month | B11: Average ratio | C11: Seasonal factor | D11: Months used
A12: January | B12: =IFERROR(AVERAGEIF('Your data'!$F$6:$F$41,1,'Your data'!$E$6:$E$41),1) -> 0.85371103 | C12: =B12/AVERAGE($B$12:$B$23) -> 0.85372139 | D12: =COUNTIF('Your data'!$F$6:$F$41,1) -> 3
A13: February | B13: =IFERROR(AVERAGEIF('Your data'!$F$6:$F$41,2,'Your data'!$E$6:$E$41),1) -> 0.8145045 | C13: =B13/AVERAGE($B$12:$B$23) -> 0.81451438 | D13: =COUNTIF('Your data'!$F$6:$F$41,2) -> 3
A14: March | B14: =IFERROR(AVERAGEIF('Your data'!$F$6:$F$41,3,'Your data'!$E$6:$E$41),1) -> 0.92862823 | C14: =B14/AVERAGE($B$12:$B$23) -> 0.92863949 | D14: =COUNTIF('Your data'!$F$6:$F$41,3) -> 3
A15: April | B15: =IFERROR(AVERAGEIF('Your data'!$F$6:$F$41,4,'Your data'!$E$6:$E$41),1) -> 0.97031237 | C15: =B15/AVERAGE($B$12:$B$23) -> 0.97032414 | D15: =COUNTIF('Your data'!$F$6:$F$41,4) -> 3
A16: May | B16: =IFERROR(AVERAGEIF('Your data'!$F$6:$F$41,5,'Your data'!$E$6:$E$41),1) -> 1.0447335 | C16: =B16/AVERAGE($B$12:$B$23) -> 1.0447462 | D16: =COUNTIF('Your data'!$F$6:$F$41,5) -> 3
A17: June | B17: =IFERROR(AVERAGEIF('Your data'!$F$6:$F$41,6,'Your data'!$E$6:$E$41),1) -> 1.0929641 | C17: =B17/AVERAGE($B$12:$B$23) -> 1.0929774 | D17: =COUNTIF('Your data'!$F$6:$F$41,6) -> 3
A18: July | B18: =IFERROR(AVERAGEIF('Your data'!$F$6:$F$41,7,'Your data'!$E$6:$E$41),1) -> 1.1324661 | C18: =B18/AVERAGE($B$12:$B$23) -> 1.1324798 | D18: =COUNTIF('Your data'!$F$6:$F$41,7) -> 3
A19: August | B19: =IFERROR(AVERAGEIF('Your data'!$F$6:$F$41,8,'Your data'!$E$6:$E$41),1) -> 1.092712 | C19: =B19/AVERAGE($B$12:$B$23) -> 1.0927253 | D19: =COUNTIF('Your data'!$F$6:$F$41,8) -> 3
A20: September | B20: =IFERROR(AVERAGEIF('Your data'!$F$6:$F$41,9,'Your data'!$E$6:$E$41),1) -> 0.97166032 | C20: =B20/AVERAGE($B$12:$B$23) -> 0.9716721 | D20: =COUNTIF('Your data'!$F$6:$F$41,9) -> 3
A21: October | B21: =IFERROR(AVERAGEIF('Your data'!$F$6:$F$41,10,'Your data'!$E$6:$E$41),1) -> 0.92737945 | C21: =B21/AVERAGE($B$12:$B$23) -> 0.9273907 | D21: =COUNTIF('Your data'!$F$6:$F$41,10) -> 3
A22: November | B22: =IFERROR(AVERAGEIF('Your data'!$F$6:$F$41,11,'Your data'!$E$6:$E$41),1) -> 1.0158112 | C22: =B22/AVERAGE($B$12:$B$23) -> 1.0158235 | D22: =COUNTIF('Your data'!$F$6:$F$41,11) -> 3
A23: December | B23: =IFERROR(AVERAGEIF('Your data'!$F$6:$F$41,12,'Your data'!$E$6:$E$41),1) -> 1.1549717 | C23: =B23/AVERAGE($B$12:$B$23) -> 1.1549857 | D23: =COUNTIF('Your data'!$F$6:$F$41,12) -> 3
A24: A factor of 1.10 means that month usually runs 10% above trend. Factors are scaled to average 1. Months with no data use 1.
A26: Forecast
A27: Month | B27: Period # | C27: Trend ($) | D27: Seasonal factor | E27: Forecast ($)
A28: =DATE(YEAR($B$8),MONTH($B$8)+1,1) -> 46023 | B28: =$B$5+1 -> 37 | C28: =$B$7+$B$6*B28 -> 65320.794 | D28: =INDEX($C$12:$C$23,MONTH(A28)) -> 0.85372139 | E28: =MAX(0,C28*D28) -> 55765.758
A29: =DATE(YEAR($B$8),MONTH($B$8)+2,1) -> 46054 | B29: =$B$5+2 -> 38 | C29: =$B$7+$B$6*B29 -> 65844.59 | D29: =INDEX($C$12:$C$23,MONTH(A29)) -> 0.81451438 | E29: =MAX(0,C29*D29) -> 53631.366
A30: =DATE(YEAR($B$8),MONTH($B$8)+3,1) -> 46082 | B30: =$B$5+3 -> 39 | C30: =$B$7+$B$6*B30 -> 66368.387 | D30: =INDEX($C$12:$C$23,MONTH(A30)) -> 0.92863949 | E30: =MAX(0,C30*D30) -> 61632.305
A31: =DATE(YEAR($B$8),MONTH($B$8)+4,1) -> 46113 | B31: =$B$5+4 -> 40 | C31: =$B$7+$B$6*B31 -> 66892.184 | D31: =INDEX($C$12:$C$23,MONTH(A31)) -> 0.97032414 | E31: =MAX(0,C31*D31) -> 64907.101
A32: =DATE(YEAR($B$8),MONTH($B$8)+5,1) -> 46143 | B32: =$B$5+5 -> 41 | C32: =$B$7+$B$6*B32 -> 67415.98 | D32: =INDEX($C$12:$C$23,MONTH(A32)) -> 1.0447462 | E32: =MAX(0,C32*D32) -> 70432.586
A33: =DATE(YEAR($B$8),MONTH($B$8)+6,1) -> 46174 | B33: =$B$5+6 -> 42 | C33: =$B$7+$B$6*B33 -> 67939.777 | D33: =INDEX($C$12:$C$23,MONTH(A33)) -> 1.0929774 | E33: =MAX(0,C33*D33) -> 74256.638
A34: =DATE(YEAR($B$8),MONTH($B$8)+7,1) -> 46204 | B34: =$B$5+7 -> 43 | C34: =$B$7+$B$6*B34 -> 68463.574 | D34: =INDEX($C$12:$C$23,MONTH(A34)) -> 1.1324798 | E34: =MAX(0,C34*D34) -> 77533.617
A35: =DATE(YEAR($B$8),MONTH($B$8)+8,1) -> 46235 | B35: =$B$5+8 -> 44 | C35: =$B$7+$B$6*B35 -> 68987.37 | D35: =INDEX($C$12:$C$23,MONTH(A35)) -> 1.0927253 | E35: =MAX(0,C35*D35) -> 75384.242
A36: =DATE(YEAR($B$8),MONTH($B$8)+9,1) -> 46266 | B36: =$B$5+9 -> 45 | C36: =$B$7+$B$6*B36 -> 69511.167 | D36: =INDEX($C$12:$C$23,MONTH(A36)) -> 0.9716721 | E36: =MAX(0,C36*D36) -> 67542.062
A37: =DATE(YEAR($B$8),MONTH($B$8)+10,1) -> 46296 | B37: =$B$5+10 -> 46 | C37: =$B$7+$B$6*B37 -> 70034.964 | D37: =INDEX($C$12:$C$23,MONTH(A37)) -> 0.9273907 | E37: =MAX(0,C37*D37) -> 64949.774
A38: =DATE(YEAR($B$8),MONTH($B$8)+11,1) -> 46327 | B38: =$B$5+11 -> 47 | C38: =$B$7+$B$6*B38 -> 70558.76 | D38: =INDEX($C$12:$C$23,MONTH(A38)) -> 1.0158235 | E38: =MAX(0,C38*D38) -> 71675.248
A39: =DATE(YEAR($B$8),MONTH($B$8)+12,1) -> 46357 | B39: =$B$5+12 -> 48 | C39: =$B$7+$B$6*B39 -> 71082.557 | D39: =INDEX($C$12:$C$23,MONTH(A39)) -> 1.1549857 | E39: =MAX(0,C39*D39) -> 82099.334
A41: Next 12 months, total | E41: =SUM(E28:E39) -> 819810.03
A42: Last 12 months of data, total | E42: =IF($B$5<12,"",SUM(OFFSET('Your data'!$B$6,$B$5-12,0,12,1))) -> 725200
A43: Change | E43: =IF(OR(E42="",E42=0),"",E41/E42-1) -> 0.1304606
A45: This is an estimate from past sales only. Adjust it for price changes, new products and anything else you know is coming. Not financial advice.
